BEGIN:VCALENDAR
VERSION:2.0
PRODID:sbir-test-acsf.cancer.gov
BEGIN:VEVENT
UID:69e6708cafdba
DTSTART:20250929T185000Z
SEQUENCE:0
TRANSP:OPAQUE
DTEND:20250930T163000Z
LOCATION:Portland\, Oregon
SUMMARY:NCI SBIR at the 2025 Oregon Bio Conference
CLASS:PUBLIC
DESCRIPTION:Meet NCI SBIR Team Leader Jonathan Franca-Koh and Program Direc
 tor Swamy Tripurani at the 2025 Oregon Bio Conference.
DTSTAMP:20260420T182932Z
END:VEVENT
END:VCALENDAR