BEGIN:VCALENDAR
VERSION:2.0
PRODID:sbir-test-acsf.cancer.gov
BEGIN:VEVENT
UID:69e6708d3ab44
DTSTART:20210302T180000Z
SEQUENCE:0
TRANSP:OPAQUE
DTEND:20220331T203000Z
SUMMARY:Virtual TRECS Workshop 2021
CLASS:PUBLIC
DESCRIPTION: A virtual workshop on Translational Resources to Expedite Comm
 ercialization Success.
DTSTAMP:20260420T182933Z
END:VEVENT
END:VCALENDAR