BEGIN:VCALENDAR
VERSION:2.0
PRODID:sbir-test-acsf.cancer.gov
BEGIN:VEVENT
UID:69e6708d58e72
DTSTART:20160524T170000Z
SEQUENCE:0
TRANSP:OPAQUE
DTEND:20160526T204500Z
LOCATION:Rockville/MD
SUMMARY:NCI SBIR Federal Resources to Accelerate Commercialization (FRAC) W
 orkshop
CLASS:PUBLIC
DESCRIPTION:An informative workshop on Federal Resources to Accelerate Comm
 ercialization (FRAC) for current SBIR/STTR awardees.
DTSTAMP:20260420T182933Z
END:VEVENT
END:VCALENDAR