BEGIN:VCALENDAR
VERSION:2.0
PRODID:sbir-test-acsf.cancer.gov
BEGIN:VEVENT
UID:69e6708d48c9f
DTSTART:20161110T140000Z
SEQUENCE:0
TRANSP:OPAQUE
DTEND:20161110T214500Z
LOCATION:Rockville/MD
SUMMARY:2016 NCI SBIR Workshop on Facilitating the Development of Molecular
 ly Targeted Radiotherapy 
CLASS:PUBLIC
DESCRIPTION:NCI SBIR workshop on Facilitating the Development of Molecularl
 y Targeted Radiotherapy for all current NCI SBIR and STTR awardee companie
 s.
DTSTAMP:20260420T182933Z
END:VEVENT
END:VCALENDAR