BEGIN:VCALENDAR
VERSION:2.0
PRODID:sbir-test-acsf.cancer.gov
BEGIN:VEVENT
UID:69e6708d8c036
DTSTART:20130507T120000Z
SEQUENCE:0
TRANSP:OPAQUE
DTEND:20130507T213000Z
LOCATION:Rockville\, MD
SUMMARY:NCI SBIR Workshop on Federal Resources to Accelerate Commercializat
 ion 2013
CLASS:PUBLIC
DESCRIPTION:NCI SBIR workshop on Federal Resources to Accelerate Commercial
 ization for all current NCI SBIR and STTR awardee companies.
DTSTAMP:20260420T182933Z
END:VEVENT
END:VCALENDAR